BEGIN:VCALENDAR
VERSION:2.0
PRODID:-//eventon.com NONSGML v1.0//EN
CALSCALE:GREGORIAN
METHOD:PUBLISH
BEGIN:VEVENT
UID:69e72f4a2f79b
DTSTAMP:20260421T080322Z
DTSTART:20250225T090000Z
DTEND:20250225T180000Z
LOCATION:
SUMMARY:Don du sang
DESCRIPTION:DON DE SANG Les besoins en sang sont très importants en cette 
 période et si vous cherchez un moyen de vous rendre utile et que vous vous
  sentez en forme. Alors\,  faites un geste de solidarité et donnez votre s
 ang en vous rendant le : Mardi 25 FÉVRIER 2025 salle[..]\nhttps://www.vill
 e.allennes.fr/events/don-du-sang/
URL:https://www.ville.allennes.fr/events/don-du-sang/
END:VEVENT
END:VCALENDAR